BEGIN:VCALENDAR
VERSION:2.0
PRODID:-//Amelia Island Chamber Music Festival - ECPv6.15.20//NONSGML v1.0//EN
CALSCALE:GREGORIAN
METHOD:PUBLISH
X-ORIGINAL-URL:https://aicmf.org
X-WR-CALDESC:Events for Amelia Island Chamber Music Festival
REFRESH-INTERVAL;VALUE=DURATION:PT1H
X-Robots-Tag:noindex
X-PUBLISHED-TTL:PT1H
BEGIN:VTIMEZONE
TZID:America/New_York
BEGIN:DAYLIGHT
TZOFFSETFROM:-0500
TZOFFSETTO:-0400
TZNAME:EDT
DTSTART:20250309T070000
END:DAYLIGHT
BEGIN:STANDARD
TZOFFSETFROM:-0400
TZOFFSETTO:-0500
TZNAME:EST
DTSTART:20251102T060000
END:STANDARD
BEGIN:DAYLIGHT
TZOFFSETFROM:-0500
TZOFFSETTO:-0400
TZNAME:EDT
DTSTART:20260308T070000
END:DAYLIGHT
BEGIN:STANDARD
TZOFFSETFROM:-0400
TZOFFSETTO:-0500
TZNAME:EST
DTSTART:20261101T060000
END:STANDARD
BEGIN:DAYLIGHT
TZOFFSETFROM:-0500
TZOFFSETTO:-0400
TZNAME:EDT
DTSTART:20270314T070000
END:DAYLIGHT
BEGIN:STANDARD
TZOFFSETFROM:-0400
TZOFFSETTO:-0500
TZNAME:EST
DTSTART:20271107T060000
END:STANDARD
END:VTIMEZONE
BEGIN:VEVENT
DTSTART;TZID=America/New_York:20260418T150000
DTEND;TZID=America/New_York:20260418T163000
DTSTAMP:20260422T032228
CREATED:20250804T182906Z
LAST-MODIFIED:20250930T162708Z
UID:10000036-1776524400-1776529800@aicmf.org
SUMMARY:Family Concert: Just Jazzin’ Around with the Gary Motley Trio
URL:https://aicmf.org/event/justjazzinaround/
LOCATION:Maxwell Hall at Memorial United Methodist Church\, 50 N 6th St\, Fernandina Beach\, FL\, 32034\, United States
ATTACH;FMTTYPE=image/png:https://aicmf.org/wp-content/uploads/2025/08/Just-Jazzin-Arpund.png
END:VEVENT
END:VCALENDAR