BEGIN:VCALENDAR
VERSION:2.0
PRODID:-//Amelia Island Chamber Music Festival - ECPv6.15.20//NONSGML v1.0//EN
CALSCALE:GREGORIAN
METHOD:PUBLISH
X-ORIGINAL-URL:https://aicmf.org
X-WR-CALDESC:Events for Amelia Island Chamber Music Festival
REFRESH-INTERVAL;VALUE=DURATION:PT1H
X-Robots-Tag:noindex
X-PUBLISHED-TTL:PT1H
BEGIN:VTIMEZONE
TZID:America/New_York
BEGIN:DAYLIGHT
TZOFFSETFROM:-0500
TZOFFSETTO:-0400
TZNAME:EDT
DTSTART:20250309T070000
END:DAYLIGHT
BEGIN:STANDARD
TZOFFSETFROM:-0400
TZOFFSETTO:-0500
TZNAME:EST
DTSTART:20251102T060000
END:STANDARD
BEGIN:DAYLIGHT
TZOFFSETFROM:-0500
TZOFFSETTO:-0400
TZNAME:EDT
DTSTART:20260308T070000
END:DAYLIGHT
BEGIN:STANDARD
TZOFFSETFROM:-0400
TZOFFSETTO:-0500
TZNAME:EST
DTSTART:20261101T060000
END:STANDARD
BEGIN:DAYLIGHT
TZOFFSETFROM:-0500
TZOFFSETTO:-0400
TZNAME:EDT
DTSTART:20270314T070000
END:DAYLIGHT
BEGIN:STANDARD
TZOFFSETFROM:-0400
TZOFFSETTO:-0500
TZNAME:EST
DTSTART:20271107T060000
END:STANDARD
END:VTIMEZONE
BEGIN:VEVENT
DTSTART;TZID=America/New_York:20260127T130000
DTEND;TZID=America/New_York:20260127T150000
DTSTAMP:20260420T224500
CREATED:20250804T195522Z
LAST-MODIFIED:20260121T164700Z
UID:10000050-1769518800-1769526000@aicmf.org
SUMMARY:Winds Masterclass with Imani Winds
URL:https://aicmf.org/event/free-winds-masterclass-with-imani-winds/
LOCATION:Jacksonville Symphony Youth Orchestra\, 300 Water St. Suite 200\, Jacksonville\, FL\, 32205
CATEGORIES:after jan 2025
ATTACH;FMTTYPE=image/jpeg:https://aicmf.org/wp-content/uploads/2025/08/ImaniWinds7_photoTitilayoAyangade.jpg
END:VEVENT
END:VCALENDAR